BEGIN:VCALENDAR
VERSION:2.0
PRODID:-//hacksw/handcal//NONSGML v1.0//EN
BEGIN:VEVENT
DTSTAMP:20160421T220000Z
DTSTART:20160421T220000Z
DTEND:20160422T220000Z
LOCATION:Bamberg, Deutschland
SUMMARY:Klausurtagung des Bundesvorstands
END:VEVENT
END:VCALENDAR
