BEGIN:VCALENDAR
VERSION:2.0
PRODID:-//hacksw/handcal//NONSGML v1.0//EN
BEGIN:VEVENT
DTSTAMP:20151214T090000Z
DTSTART:20151214T090000Z
DTEND:20151215T140000Z
LOCATION:Karlsruhe, Deutschland
DESCRIPTION:\nDie MIT-Bundesgeschäftsstelle war auf dem Parteitag der CDU am 14. und 15. Dezember 2015 in Karlsruhe mit einem Stand vertreten sein. In frischer Optik präsentierte sich die MIT den Teilnehmern des CDU-Parteitags. Die MIT war nicht nur politisch stark\, sondern zeigte auch optisch Präsenz. Der MIT-Stand war mit einem Kicker und einer Ladestation für Laptops\, Tablets und Smartphones ausgestattet\, bei der die Delegierten und Gäste des Parteitags in eigenen Schließfächern ihre Mobilgeräte aufladen konnten. Dadurch war der MIT-Stand ein beliebter Anlauf- und Treffpunkt auf dem CDU-Parteitag.\n\nBereits auf dem letzten CDU-Bundesparteitag 2014 in Köln zeigte sich die MIT nicht nur politisch stark\, sondern auch optisch in neuem Gewand: mit einem vollständig neuen Parteitagsstand im neuen Design und mit neuem Logo (s. Foto). Auch dieses Jahr wird der MIT-Stand mit einer Ladestation für Laptops\, Tablets und Smartphones ausgestattet sein\, bei der die Delegierten und Gäste des Parteitags in eigenen Schließfächern ihre Mobilgeräte aufladen können.\n\n \nAngenommene Anträge der MIT auf dem 28. CDU-Parteitag\n\nC 26 - "Optimierung der Rahmenbedingungen für Innovation und Startups"\n\nC 27 - "Bessere Folgenabschätzung von EU-Gesetzen und mehr Subsidiarität"\n\nC 28 - "Ja zu TTIP - Chance für Deutschland"\n\nC 29 - "Für eine stärkere Marktintegration der Erneuerbaren Energien"\n\nC 30 - "Alter neu denken: Flexi-Rente weiterentwickeln"\n\n \n\nWeitere Anträge und Beschlüsse des 28. Parteitags der CDU\n\n \nMIT in den Medien\n\nRede von Carsten Linnemann auf dem Parteitag\n\n"Europa steht vor einer Zerreißprobe" | Interview mit Carsten Linnemann beim INFOradio vom RBB\, 15. Dezember 2015\n\nCDU-Politiker Linnemann: Notfalls muss Deutschland wieder Grenzkontrollen einführen | Huffington Post | 15. Dezember 2015\n\nCarsten Linnemann im Interview mit WDR2 | 14. Dezember 2015\n\nCarsten Linnemann im Interview mit phoenix | 14. Dezember 2015\n\nMerkel gesteht Möglichkeit der "Überforderung" ein | Die Welt | 13. Dezember 2015\n\nCDU entschärft Streit um Flüchtlingspolitik | Die Welt | 13. Dezember 2015\n\nAngela Merkel bekräftigt Ablehnung von Obergrenzen | Der Tagesspiegel | 12. Dezember 2015\n\nVor Parteitag: CDU-Widerstand gegen Merkels Flüchtlingskurs formiert sich | Spiegel Online | 11. Dezember 2015\n\n"Wir brauchen eine Atempause" | Westfalen-Blatt | 11. Dezember 2015\n\n \nImpressionen vom CDU-Parteitag\n\nDelegierten-Vorbesprechung der MIT | 13. Dezember 2015\n\nMIT-Stand auf dem CDU-Parteitag\n
SUMMARY:MIT auf dem CDU-Parteitag in Karlsruhe
END:VEVENT
END:VCALENDAR
