BEGIN:VCALENDAR
VERSION:2.0
PRODID:-//hacksw/handcal//NONSGML v1.0//EN
BEGIN:VEVENT
DTSTAMP:20151129T230000Z
DTSTART:20151129T230000Z
DTEND:20151129T230000Z
LOCATION:Berlin, Deutschland
DESCRIPTION:\nEin großes Projekt findet seinen Abschluss: Die MIT-Bundesgeschäftsstelle hat neue Räume gekauft\, ausgebaut und ist eingezogen – mitten im Berliner Regierungsviertel. Aus diesem Anlass lädt die Bundesgeschäftsstelle den MIT-Bundesvorstand\, die wichtigsten Unterstützer der neuen Geschäftsstelle\, unsere Partner im Konrad-Adenauer-Haus und die Vertreter der anderen CDU-Vereinigungen zu einem kleinen Frühschoppen mit Imbiss in die neuen Räumlichkeiten der Geschäftsstelle ein.\n \n
SUMMARY:Einweihungsfeier der MIT-Bundesgeschäftsstelle
END:VEVENT
END:VCALENDAR
