BEGIN:VCALENDAR
VERSION:2.0
PRODID:-//hacksw/handcal//NONSGML v1.0//EN
BEGIN:VEVENT
DTSTAMP:20160427T090000Z
DTSTART:20160427T090000Z
DTEND:20160427T090000Z
LOCATION:Golfclub Restaurant, Am Golfplatz 2, Düren, 52355, Deutschland
DESCRIPTION:\nFestakt zum 60. Geburtstag der MIT mit dem Chefredakteur der Aachener Zeitung\n\nDatum und Uhrzeit\n27. April 2016\, 11.00 Uhr\n\nVeranstaltungsort\nRestaurant des Dürener Golfclubs\, Düren\n\n \n
SUMMARY:MIT Düren: Festakt mit Professor Bernd Mathieu
END:VEVENT
END:VCALENDAR
