BEGIN:VCALENDAR
VERSION:2.0
PRODID:-//hacksw/handcal//NONSGML v1.0//EN
BEGIN:VEVENT
DTSTAMP:20160427T070000Z
DTSTART:20160427T070000Z
DTEND:20160427T070000Z
LOCATION: Landfleischerei Schempp, Anbau 13, Tauscha, 01561, Deutschland
DESCRIPTION:\nUnternehmerfrühstück in der Landkreisgemeinde Thiendorf\n\nDatum und Uhrzeit\n27. April 2016\, 9.00 Uhr\n\nVeranstaltungsort\nLandfleischerei Schempp\, Thiendorf\n\nErwartete Gästezahl\n25\n\n \n
SUMMARY:MIT Meißen: Unternehmerfrühstück
END:VEVENT
END:VCALENDAR
