BEGIN:VCALENDAR
VERSION:2.0
PRODID:-//hacksw/handcal//NONSGML v1.0//EN
BEGIN:VEVENT
DTSTAMP:20160427T140000Z
DTSTART:20160427T140000Z
DTEND:20160427T140000Z
LOCATION:Der Bergkeller, Großraschützer Str.1, Großenhain, 01558, Deutschland
DESCRIPTION:\nUnternehmerkaffee mit dem CDU-Landtagsabgeordneten Sebastian Fischer MdL und MIT-Bundesvorstandsmitglied Norbert Müller\n\nDatum und Uhrzeit\n27. April 2016\, 16 Uhr\n\nVeranstaltungsort\nRestaurant Bergkeller\, Großenhain\n\nErwartete Gästezahl\n30\n\n \n
SUMMARY:MIT Meißen: Unternehmerkaffee
END:VEVENT
END:VCALENDAR
