BEGIN:VCALENDAR
VERSION:2.0
PRODID:-//hacksw/handcal//NONSGML v1.0//EN
BEGIN:VEVENT
DTSTAMP:20160427T160000Z
DTSTART:20160427T160000Z
DTEND:20160427T160000Z
LOCATION:Der Bergkeller, Großraschützer Str. 30, Großenhain, 01558, Deutschland
DESCRIPTION:\nFestveranstaltung zum 60-jährigen Jubiläum der MIT\n\nDatum und Uhrzeit\n27. April 2016\, 18 Uhr\n\nVeranstaltungsort\nRestaurant Bergkeller\, Großenhain\n\nErwartete Gästezahl\n70\n\n \n
SUMMARY: MIT Meißen: Abendveranstaltung
END:VEVENT
END:VCALENDAR
