BEGIN:VCALENDAR
VERSION:2.0
PRODID:-//hacksw/handcal//NONSGML v1.0//EN
BEGIN:VEVENT
DTSTAMP:20160427T160000Z
DTSTART:20160427T160000Z
DTEND:20160427T160000Z
LOCATION:Restaurant Hollywood, Bahnhofstr. 1A, Gräfenhainichen, 06773, Deutschland
DESCRIPTION:\nGrillfeier mit festlichem Charakter\nDie Feierlichkeit findet im Rahmen unserer Veranstaltungsreihe Wirtschaftsstammtisch ( monatlich seit 1998 ) statt. Auf der Terrasse des Restaurants werden wir Freibier und Freigetränke sowie Gulaschsuppe u.ä. anbieten.\nGäste sind neben den MIT-Mitgliedern die Unternehmer\, Kreishandwerkerschaft\, IHK\, MdB\, MdL und sonstige Regionalpolitiker.\n\nDatum und Uhrzeit\n27. April 2016\, 18 Uhr\n\nVeranstaltungsort\nRestaurant Hollywood\, Gräfenhainichen\n\nErwartete Gästezahl\n50\n
SUMMARY:MIT Gräfenhainichen: Wirtschaftsstammtisch 60 Jahre MIT Deutschland 
END:VEVENT
END:VCALENDAR
