BEGIN:VCALENDAR
VERSION:2.0
PRODID:-//hacksw/handcal//NONSGML v1.0//EN
BEGIN:VEVENT
DTSTAMP:20160427T170000Z
DTSTART:20160427T170000Z
DTEND:20160427T170000Z
LOCATION:Hotel Arte, Dorfstraße 6, Schwerin, 19061, Deutschland
DESCRIPTION:\nWeinverkostung mit einem Menü über vier Gänge aus Anlass des 60. Jahrestages der MIT\n\nDatum und Uhrzeit\n27. April 2016\, 19 Uhr\n\nVeranstaltungsort\nHotel Arte\, Schwerin\n\nErwartete Gästezahl\n30-40\n\n \n
SUMMARY:MIT Schwerin: Weinverkostung mit Dinner
END:VEVENT
END:VCALENDAR
