BEGIN:VCALENDAR
VERSION:2.0
PRODID:-//hacksw/handcal//NONSGML v1.0//EN
BEGIN:VEVENT
DTSTAMP:20160427T160000Z
DTSTART:20160427T160000Z
DTEND:20160427T160000Z
LOCATION:Schnellecke logistics, Stellfelder Str. 39, Wolfsburg, 38442, Deutschland
DESCRIPTION:\nAnlässlich des 60-jährigen Bestehens der MIT findet in Wolfsburg eine besondere Jubiläumsveranstaltung statt.\n\nRahmenprogramm:\nBegrüßung durch den Oberbürgermeister Klaus Mohrs\, Grußworte von Angelika Jahns MdL\n\nPodiumsdiskussion: "Wie kann Wolfsburg weiterhin ein Zukunftsstandort bleiben?"\nDirk Toepffer\, CDU-Landtagsfraktion\,\nThomas Krause\, Vorstand Wolfsburg AG\,\nHans-Dieter Brand\, Geschäftsführer der Neuland\nOlaf Kahle\, Präsident der IHK\n\nImprovisationstheater emscherblut\nGet Together mit Fingerfood\n\nDatum und Uhrzeit\n27. April 2016\, 18 Uhr\n\nVeranstaltungsort\nSchnellecke logistics\, Wolfsburg\n\nErwartete Gästezahl\n40\n\n \n
SUMMARY:MIT Nordostniedersachsen: Podiumsdiskussion und Impro-Theater
END:VEVENT
END:VCALENDAR
