BEGIN:VCALENDAR
VERSION:2.0
PRODID:-//hacksw/handcal//NONSGML v1.0//EN
BEGIN:VEVENT
DTSTAMP:20160427T130000Z
DTSTART:20160427T130000Z
DTEND:20160427T130000Z
LOCATION:Volkshochschule Wedel, ABC-Straße 3, Wedel, 22880, Deutschland
DESCRIPTION:\nDie MIT\, die VHS Wedel\, die Agentur für Arbeit\, die Wirtschaftsförderung Wedel und die Beratungsfirma Business Quadrat haben sich mit dem "Arbeitskreis Bildung und Wirtschaft" der Vermittlung von Menschen mit Migrationshintergrund an fachkräftesuchende Unternehmen angenommen. Gemeinsam organisiert der "Arbeitskreis Bildung und Wirtschaft" am 27. April das 3. Job-Café von Wedel.\n\nMit dem Job-Café möchten wir arbeitssuchenden Zuwanderern einen ersten Überblick über die Unternehmenslandschaft in Deutschland geben und in lockerer Atmosphäre einen ersten Kontakt zueinander ermöglichen.\n\nDazu werden sich die Unternehmen Trioptics GmbH\, Lüchau Baustoffe GmbH und Bernhardt Apparatebau GmbH u. Co. vorstellen und Antworten geben auf die Fragen: Wer sind wir? Was suchen wir? Und: Was erwarten wir?\n\nDatum und Uhrzeit\n27. April 2016\, 15.00 Uhr\n\nVeranstaltungsort\nWedel\n\nErwartete Gästezahl\n40\n\n \n
SUMMARY:MIT Wedel: Vermittlung von Jobs an Flüchtlinge
END:VEVENT
END:VCALENDAR
