BEGIN:VCALENDAR
VERSION:2.0
PRODID:-//hacksw/handcal//NONSGML v1.0//EN
BEGIN:VEVENT
DTSTAMP:20160427T110000Z
DTSTART:20160427T110000Z
DTEND:20160427T110000Z
LOCATION:ZEUS | Café · Restaurant · Bar, Friedhofsweg 15, Oldenburg, 26121, Deutschland
DESCRIPTION:\nVeranstaltungsreihe "MITtagstisch": Mittagessen mit Kontaktpflege\, im MITgliedsbetrieb.\n\nAbends findet der CDU-Kreisparteitag mit Kommunalwahl-Listenbestimmung statt. Hier kandidieren viele MITglieder. Daher verbietet sich eine zeitgleiche MIT-Veranstaltung.\n\nDatum und Uhrzeit\n27. April 2016\, 13.00 Uhr\n\nVeranstaltungsort\nRestaurant Zeus\, Oldenburg\n\nErwartete Gästezahl\n20\n\n \n
SUMMARY:MIT Oldenburg-Stadt: Netzwerk-Veranstaltung 
END:VEVENT
END:VCALENDAR
