BEGIN:VCALENDAR
VERSION:2.0
PRODID:-//hacksw/handcal//NONSGML v1.0//EN
BEGIN:VEVENT
DTSTAMP:20160427T173000Z
DTSTART:20160427T173000Z
DTEND:20160427T173000Z
LOCATION:Café Leichtsinn, Dr.-Robert-Koch-Str. 8, Bergisch Gladbach, 51465, Deutschland
DESCRIPTION:\nVortragsveranstaltung „Wie ich meine beruflichen und finanziellen Ziele erreiche“\n\nReferentin Andrea Steinert ist Dozentin an der Fresenius Business School und berät die METRO AG. Zuvor war sie lange Jahre in der Weiterbildung bei RTL tätig. Wie bekomme ich Partnerschaft\, Familie und Beruf unter einen Hut? Wie schaffe ich nach Auszeiten oder Ortswechseln den Wiedereinstieg und wie halte ich mit den ständig wechselnden Neuerungen in der Büroorganisation Schritt? Wie kann ich meine Karriere besser aufstellen und finanziell vernünftig organisieren? Für Andrea Steinert\, die immer wieder an Grenzen gestoßen ist\, steht fest: Wir können alles haben\, nur nicht alles auf einmal! Schwerpunkt ihres Vortrags mit anschließender Diskussion sind berufliche Entwicklungschancen für Männer und Frauen.\n\nDatum und Uhrzeit\n27. April 2016\, 19:30 Uhr\n\nVeranstaltungsort\nCafé Leichtsinn\, Bergisch-Gladbach\n\nErwartete Gästezahl\n50\n
SUMMARY:MIT Rheinisch-Bergischer Kreis: Vortragsveranstaltung mit Andrea Steinert
END:VEVENT
END:VCALENDAR
