BEGIN:VCALENDAR
VERSION:2.0
PRODID:-//hacksw/handcal//NONSGML v1.0//EN
BEGIN:VEVENT
DTSTAMP:20160427T130000Z
DTSTART:20160427T130000Z
DTEND:20160427T130000Z
LOCATION:MIT-Bundesgeschäftsstelle, Schadowstr. 3, Berlin, 10117, Deutschland
DESCRIPTION:\nInnovationstour durch Wirtschaft\, Wissenschaft und Startups\n\nAnlässlich des 60. Jubiläums der Mittelstands- und Wirtschaftsvereinigung der CDU/CSU veranstaltet die MIT Bund eine Innovationstour zu interessanten Standorten der Wirtschaft\, Startups und Forschung am Standort Berlin. Unser Kooperationspartner bei dieser Tour ist Vodafone und wir danken für die Möglichkeit\, 20 Personen zu dieser Tour einladen zu können. Wir erwarten eine interessante Mischung des Teilnehmerfelds mit spannenden Personen aus Politik\, Startups\, VC\, Mittelstand und Verbänden.\n\nTourplan: 15 Uhr\nAtomleap in der Factory\nCisco Innovation Lab\nHeinrich-Hertz-Instituts\nbetterplace.org\n\nAnkunft bei Vodafone: 19:30 Uhr\nGet-Together bei Buffet mit 30 spannenden Gästen aus den Bereichen Startups\, Politik und Wirtschaft\nKurzvorstellung der Studie Big Data von Vodafone\nKurzweiliger Start-Up-Pitch von 5 jungen Gründern\n
SUMMARY:MIT BUND: Innovations-Tour zum 60. Jahrestag
END:VEVENT
END:VCALENDAR
