BEGIN:VCALENDAR
VERSION:2.0
PRODID:-//hacksw/handcal//NONSGML v1.0//EN
BEGIN:VEVENT
DTSTAMP:20160427T170000Z
DTSTART:20160427T170000Z
DTEND:20160427T170000Z
LOCATION:Deutsches Ledermuseum, Frankfurter Str. 86, Offenbach am Main, 63067, Deutschland
DESCRIPTION:\nVortragsveranstaltung "Herausforderungen des Deutschen Mittelstandes".\n\nGemeinsame Veranstaltung des Bezirksverbands FrankfurtRheinMain mit den Kreisverbänden Frankfurt\, Hochtaunus\, Main-Taunus\, Offenbach-Stadt und Offenbach-Land\n\nDatum und Uhrzeit\n27. April 2016\, 19 Uhr\n\nVeranstaltungsort\nDeutsches Ledermuseum\, Offenbach am Main\n\n \n
SUMMARY:MIT Frankfurt Rhein Main: Vortragsveranstaltung mit Klaus-Peter Müller (Commerzbank)
END:VEVENT
END:VCALENDAR
