BEGIN:VCALENDAR
VERSION:2.0
PRODID:-//hacksw/handcal//NONSGML v1.0//EN
BEGIN:VEVENT
DTSTAMP:20160427T170000Z
DTSTART:20160427T170000Z
DTEND:20160427T170000Z
LOCATION:Lipp Laser Schweißtechnik GmbH, Fritz-Haber-Str. 15A, Viernheim, 68519, Deutschland
DESCRIPTION:\nBesichtigung der Lipp Laser Schweißtechnik GmbH\n\nDatum und Uhrzeit\n27. April 2016\, 19 Uhr\n\nVeranstaltungsort\nLipp Laser Schweißtechnik GmbH\, Viernheim\n
SUMMARY:MIT Bergstraße: Betriebsbesichtigung
END:VEVENT
END:VCALENDAR
