BEGIN:VCALENDAR
VERSION:2.0
PRODID:-//hacksw/handcal//NONSGML v1.0//EN
BEGIN:VEVENT
DTSTAMP:20160427T180000Z
DTSTART:20160427T180000Z
DTEND:20160427T180000Z
LOCATION:Restaurant Vivarium, Schnampelweg 4, Darmstadt, 64287, Deutschland
DESCRIPTION:\nVortragsveranstaltung mit Roland Desch\, Präsident a. D. des Hessischen Verfassungsschutzes und Vizepräsident a. D. des LKA Hessen\n\nDatum und Uhrzeit\n27. April 2016\, 20 Uhr\n\nVeranstaltungsort\nRestaurant Vivarium\, Darmstadt\n
SUMMARY:MIT Darmstadt-Stadt: Flüchtlingspolitik - "Menschenwürde achten - Sicherheit für alle"
END:VEVENT
END:VCALENDAR
