BEGIN:VCALENDAR
VERSION:2.0
PRODID:-//hacksw/handcal//NONSGML v1.0//EN
BEGIN:VEVENT
DTSTAMP:20160407T160000Z
DTSTART:20160407T160000Z
DTEND:20160407T160000Z
LOCATION:Elspass Autoland GmbH, Karl-Heinz-Klingen-Str. 106, Dinslaken, 46539, Deutschland
DESCRIPTION:\nVeranstaltung zum 60. Geburtstag der MIT mit dem Bundesvorsitzenden Carsten Linnemann\n\nVeranstaltungstitel:\n"Politik für den Mittelstand als Motor für Wachstum und Beschäftigung in Deutschland"\n\nDatum und Uhrzeit\n7. April 2016\, 18 Uhr\n\nVeranstaltungsort\nAutoland Elspass\, Dinslaken\n
SUMMARY:MIT Wesel: Jubiläumsveranstaltung
END:VEVENT
END:VCALENDAR
