BEGIN:VCALENDAR
VERSION:2.0
PRODID:-//hacksw/handcal//NONSGML v1.0//EN
BEGIN:VEVENT
DTSTAMP:20160427T160000Z
DTSTART:20160427T160000Z
DTEND:20160427T160000Z
LOCATION:Wirtschafts- und Infrastrukturbank, Gustav-Stresemann-Ring 9, Wiesbaden, 65189, Deutschland
DESCRIPTION:\nVeranstaltungstitel: "Wie kann der Wohnungsbau in Wiesbaden gefördert werden?"\n\nReferenten: Klaus Dietz (MdL\, CDU)\, Hans-Martin Kessler (stellv. Vorsitzender der CDU-Rathausfraktion)\, Dr. Harald Schlee (Abt.leiter Wohnungs- u. Städtebau der WIBank\, Christian Streim (Landesvors. Haus &amp\; Grund Hessen)\, Gottfried Milde (Sprecher der Geschäftsleitung WIBank)\n\nModeration: Dr. Reinhard Völker (MIT-Kreisvorsitzender)\n\nDatum und Uhrzeit\n27. April 2016\, 18 Uhr\n\nVeranstaltungsort\nWirtschafts- und Infrastrukturbank\, Wiesbaden\n
SUMMARY:MIT Wiesbaden: Vortragsveranstaltung mit Podiumsdiskussion
END:VEVENT
END:VCALENDAR
