BEGIN:VCALENDAR
VERSION:2.0
PRODID:-//hacksw/handcal//NONSGML v1.0//EN
BEGIN:VEVENT
DTSTAMP:20160428T160000Z
DTSTART:20160428T160000Z
DTEND:20160428T160000Z
LOCATION:Creditreform Saarbrücken, Karcherstraße 10, Saarbrücken, 66111, Deutschland
DESCRIPTION:\nVeranstaltungstitel: "Die eigene Bonität des Unternehmens - offen Kommunikation mit Dritten"\n\nIn unserer Veranstaltungsreihe "Finanzierungen für den Mittelstand" widmen wir uns der Bedeutung der Bonität zusammen mit den Fachleuten der Creditreform Saarbrücken. Im Zuge dieser Veranstaltung präsentieren Dr. Carsten Uthoff\, Geschäftsführer und Uwe Heim\, Prokurist und Leiter der Auskunftsabteilung\, was Dritte über Ihr Unternehmen wissen\, wie Sie den Prozess der Bonitätsbewertung unterstützen und welche Instrumente der Finalkommunikation Sie für sich nutzen können.\nNach dem Vortrags- und Diskussionsteil von ca. 1\,5 Stunden wird es Gelegenheit gegeben\, die Themen bei einem kleinen Imbiss zu vertiefen.\n\nDatum und Uhrzeit\n28. April 2016\, 18 Uhr\n\nVeranstaltungsort\nCreditreform Saarbrücken\, Saarbrücken\n\nErwartete Gästezahl\n100\n
SUMMARY:MIT Saarbrücken-Stadt: MIT-Unternehmertreff
END:VEVENT
END:VCALENDAR
