BEGIN:VCALENDAR
VERSION:2.0
PRODID:-//hacksw/handcal//NONSGML v1.0//EN
BEGIN:VEVENT
DTSTAMP:20160426T220000Z
DTSTART:20160426T220000Z
DTEND:20160426T220000Z
LOCATION:Dieselstr. 1, Leonberg, 71229, Deutschland
DESCRIPTION:\nUnternehmensbesuche in Verbindung mit dem ÖPNV\n\n1. Firma EDV-Partner\, Leonberg\n2. Firma Binder Optik\, Böblingen\n3. Firma Möbel Knoll\, Herrenberg\n\nUm das Ganze auch noch mit dem Thema ÖPNV zu verbinden wurde beschlossen\, diese Tour mit der S-Bahn durchzuführen\n\nDatum und Uhrzeit\n27. April 2016\n\nVeranstaltungsort\nFirma EDV-Partner\, Leonberg\nFirma Binder Optik\, Böblingen\nFirma Möbel Knoll\, Herrenberg\n\nErwartete Gästezahl\n40\n
SUMMARY:MIT Böblingen: Unternehmensbesuche
END:VEVENT
END:VCALENDAR
