BEGIN:VCALENDAR
VERSION:2.0
PRODID:-//hacksw/handcal//NONSGML v1.0//EN
BEGIN:VEVENT
DTSTAMP:20160427T173000Z
DTSTART:20160427T173000Z
DTEND:20160427T173000Z
LOCATION:Hotel Acantus Straße: , Ringstraße 13, Weisendorf, 91085, Deutschland
DESCRIPTION:\nVeranstaltungstitel: "Was lehrt uns Ludwig Erhard heute?"\n\nVortrag mit Prof. Dr. Richard Reichel\, Geschäftsführer des Forschungsinstituts für das Genossenschaftswesen an der Friedrich Alexander Universität Erlangen-Nürnberg\n\nDatum und Uhrzeit\n3. Mai 2016\, 19:30 Uhr\n\nVeranstaltungsort\nHotel Acantus\, Weisendorf\n
SUMMARY:MU Mittelfranken: Vortrags- und Diskussionsabend
END:VEVENT
END:VCALENDAR
