BEGIN:VCALENDAR
VERSION:2.0
PRODID:-//hacksw/handcal//NONSGML v1.0//EN
BEGIN:VEVENT
DTSTAMP:20160503T160000Z
DTSTART:20160503T160000Z
DTEND:20160503T160000Z
LOCATION:Edelkorn-Brennerei Josef Rosche, Neustadtstraße 35-38, Haselünne, 49740, Deutschland
DESCRIPTION:\nThema: Infrastrukturausbau im Emsland - Straße\, Schiene\, Wasserwege\n\nLandrat Reinhart Winter und der leitende Baudirektor Klaus Haberland berichten über die geplanten Infrastrukturmaßnahmen im Kreis. Zur Diskussion beitragen werden auch der Geschäftsführer der Bernhard Krone GmbH &amp\; Co KG\, Alfons Veer und die Geschäftsführerin der Többe Schwerlast und Transport GmbH\, Claudia Bröker.\n\nDatum und Uhrzeit\n3. Mai 2016\, 18 Uhr\n\nVeranstaltungsort\nEdelkorn-Brennerei Josef Rosche\, Haselünne\n\nErwartete Gästezahl\n80\n
SUMMARY:MIT Meppen: Informationsveranstaltung mit anschließender Diskussion
END:VEVENT
END:VCALENDAR
