BEGIN:VCALENDAR
VERSION:2.0
PRODID:-//hacksw/handcal//NONSGML v1.0//EN
BEGIN:VEVENT
DTSTAMP:20160427T150000Z
DTSTART:20160427T150000Z
DTEND:20160427T150000Z
LOCATION:Club Kantine, Am Alten Gaswerk 1, Ravensburg, 88212, Deutschland
DESCRIPTION:\nVeranstaltungstitel: "MITeinander leben - MITeinander arbeiten Unternehmer treffen Flüchtlinge"\n\nDie MIT Ravensburg und fünf Flüchtlings-Helferkreise haben für diesen Abend rund 50 Bewerber nach verschiedenen Kriterien vorausgewählt\, die für kurze Bewerbungsgespräche zur Verfügung stehen. Unter dem Motto "MITeinander leben - MITeinander arbeiten" wollen wir den nächsten Schritt der Integration von Flüchtlingen gehen. Impulsvortrag vom Arbeitsamt "Flüchtlinge einstellen - Was muss ich als Arbeitgeber tun?" Erfahrungsbericht eines Unternehmer mit Flüchtlingen am Arbeitsplatz. Informationen von der Flüchtlingsbeauftragten des Landratsamt. Bewerbungsgespräche mit den Interessenten. Jeder Unternehmer\, der einen Flüchtling einstellt\, ist aufgefordert - quasi als Vermittlungsgebühr - bei der MIT Mitglied zu werden.\n\nDatum und Uhrzeit\n27. April 2016\, 17 Uhr\n\nVeranstaltungsort\nClub Kantine\, Ravensburg\n\nErwartete Gästezahl\n200-300\n
SUMMARY:MIT Ravensburg: Begegnung mit Flüchtlingen, Vermittlung von Stellen
END:VEVENT
END:VCALENDAR
