BEGIN:VCALENDAR
VERSION:2.0
PRODID:-//hacksw/handcal//NONSGML v1.0//EN
BEGIN:VEVENT
DTSTAMP:20160426T220000Z
DTSTART:20160426T220000Z
DTEND:20160426T220000Z
LOCATION:Landkreis Saalfeld-Rudolstadt, Kronacher Strasse 4, Unterwellenborn, 07333, Deutschland
DESCRIPTION:\nKooperationsprojekt zwischen der MIT Bund und MIT-Gliederungen zur Vereinigungsaktivierung und Gewinnung von Neu-Mitgliedern\n\nIm Rahmen des Pilotprojektes MIT-Benchmark - Erfolg durch Zielmarken - der MIT-Bundesgeschäftsstelle startet der Kreisverband Saalfeld-Rudolstadt das Kooperationsprojekt zwischen der MIT Bund und MIT-Gliederungen zur Vereinigungsaktivierung und Gewinnung von Neu-Mitgliedern.\n
SUMMARY:MIT Saalfeld-Rudolstadt startet Werbekampagne
END:VEVENT
END:VCALENDAR
