BEGIN:VCALENDAR
VERSION:2.0
PRODID:-//hacksw/handcal//NONSGML v1.0//EN
BEGIN:VEVENT
DTSTAMP:20160524T220000Z
DTSTART:20160524T220000Z
DTEND:20160524T220000Z
LOCATION:Kreissparkasse Saalfeld, Markt 1, Saalfeld, 07318, Deutschland
DESCRIPTION:\nVeranstaltungstitel: "Wirtschaft trifft Politik - die wirtschaftliche Zukunft des Landkreises"\n\nWirtschaftsgespräch mit den Unternehmen der Region\, dem Landrat und dem Vorstandsvorsitzenden der Kreissparkasse Saalfeld\n\nDatum\n25. Mai 2016\n\nVeranstaltungsort\nKreissparkasse Saalfeld\, Saalfeld\n\nErwartete Gästezahl\n30\n\n \n
SUMMARY:MIT Saalfeld-Rudolstadt: Wirtschaftsgespräch mit den Unternehmen der Region
END:VEVENT
END:VCALENDAR
