BEGIN:VCALENDAR
VERSION:2.0
PRODID:-//hacksw/handcal//NONSGML v1.0//EN
BEGIN:VEVENT
DTSTAMP:20160429T110000Z
DTSTART:20160429T110000Z
DTEND:20160429T110000Z
LOCATION:Erlebnisbergwerk Sondershausen , Schachtstraße 20-22, Sondershausen, 99706, Deutschland
DESCRIPTION:\nUnternehmensbesichtigung mit anschließender Feier\n\n13.00 Uhr\nTreffen am Erlebnisbergwerk 99706 Sondershausen\n\n13.30 Uhr\nEinweisung zur Einfahrt in den Schacht\n\n14.00 Uhr\nEinfahrt in den Schacht\n\n16.30 Uhr\nTreffen am Schloss Sondershausen zur Besichtigung\nBegrüßung durch den Bürgermeister Joachim Kreyer (CDU)\nFührung durch das Schlossmuseum sowie Heimatmuseum\n\n18.00 Uhr\nTreffen am Hotel "Thüringer Hof" in Ebeleben\nWilhelm-Klemm-Straße 35\;\nGemütliches Beisammensein sowie angeregter Austausch\n
SUMMARY:MIT Kyffhäuserkreis und MIT Saale-Holzland-Kreis: Unternehmensbesichtigung
END:VEVENT
END:VCALENDAR
