BEGIN:VCALENDAR
VERSION:2.0
PRODID:-//hacksw/handcal//NONSGML v1.0//EN
BEGIN:VEVENT
DTSTAMP:20160427T173000Z
DTSTART:20160427T173000Z
DTEND:20160427T173000Z
LOCATION:Haus der Donau, Kronengasse 4/3, Ulm, 89073, Deutschland
DESCRIPTION:\nVeranstaltungstitel: „60-Jahre Soziale Marktwirtschaft – wie geht es im digitalen Zeitalter weiter?“\n\nReferenten\nLuise Gräfin Schlippenbach\, ehemalige Pressereferentin von Ludwig Erhard\nGunter Czisch\, Oberbürgermeister der Stadt Ulm (CDU)\nProf. Dr. Gerald Lembke\, Digitalexperte der Universität Mannheim\nProf. Dr. Werner Faix\, Geschäftsführender Direktor der Steinbeis SIBE\nDr. Andreas Lutz\, Bundesvorsitzender des Verbandes der Gründer und Selbstständigen Deutschland\n\nDatum und Uhrzeit\n27. April 2016\, 19:30 Uhr\n\nVeranstaltungsort\nHaus der Donau\, Ulm\n
SUMMARY:MIT Alb-Donau/Ulm: Vortrags- und Diskussionsveranstaltung
END:VEVENT
END:VCALENDAR
