BEGIN:VCALENDAR
VERSION:2.0
PRODID:-//hacksw/handcal//NONSGML v1.0//EN
BEGIN:VEVENT
DTSTAMP:20160427T173000Z
DTSTART:20160427T173000Z
DTEND:20160427T173000Z
LOCATION:Sporthotel Erbenholz, Peiner Str. 100, Laatzen/Rethen, 30880, Deutschland
DESCRIPTION:\nVeranstaltungstitel: "Auf dem Weg zur bargeldlosen Gesellschaft"\n\nZum Thema "Auf dem Weg in die bargeldlose Gesellschaft - unnötige Einschränkung von Freiheitsrechten oder notwendiges Mittel der Kriminalitätsbekämpfung?" diskutieren wir mit einer Vertreterin der Sparkasse Hannover\, Rechtsanwälten und Steuerberatern über dieses aktuelle Thema.\n\nDatum und Uhrzeit\n27. April 2016\, 19:30 Uhr\n\nVeranstaltungsort\nSporthotel Erbenholz\, Laatzen/Rethen\n\nErwartete Gästezahl\n50\n
SUMMARY:MIT Hannover-Land und MIT Hannover-Stadt: Jubiläumsveranstaltung
END:VEVENT
END:VCALENDAR
