BEGIN:VCALENDAR
VERSION:2.0
PRODID:-//hacksw/handcal//NONSGML v1.0//EN
BEGIN:VEVENT
DTSTAMP:20160427T060000Z
DTSTART:20160427T060000Z
DTEND:20160427T060000Z
LOCATION:Festzentrum Hohe Steinert, Hohe Steinert 4, Lüdenscheid, 58509, Deutschland
DESCRIPTION:\nWirtschaftsfrühstück anlässlich 60 Jahre MIT Deutschland\n\n\n\n\n\nDatum und Uhrzeit\n27. April 2016\, 8 Uhr\n\nVeranstaltungsort\nFestzentrum Hohe Steinert\, Lüdenscheid\n\n\n\n\n\n \n
SUMMARY:MIT Lüdenscheid und MIT Meinerzhagen: Wirtschaftsfrühstück
END:VEVENT
END:VCALENDAR
