BEGIN:VCALENDAR
VERSION:2.0
PRODID:-//hacksw/handcal//NONSGML v1.0//EN
BEGIN:VEVENT
DTSTAMP:20160427T090000Z
DTSTART:20160427T090000Z
DTEND:20160427T090000Z
LOCATION:Schiffahrtsmuseum Unterweser, Breite Straße 9, Brake (Unterweser), 26919, Deutschland
DESCRIPTION:\nVeranstaltungstitel: Die Schiffahrt als Säule des Mittelstands in der Wesermarsch - Die MIT wird 60. und unterstützt das Schiffahrtsmuseum Unterweser\n\nSpendenübergabe unter Beteiligung von Mitgliedern\, Gästen\, Interessenten und der lokalen Presse\n\nDatum und Uhrzeit\n27. April 2016\, 11 Uhr\n\nVeranstaltungsort\nSchiffahrtsmuseum Unterweser\, Brake\n\nErwartete Gästezahl\n10\n
SUMMARY:MIT Wesermarsch: Spendenübergabe an das Schifffahrtsmuseum Unterweser
END:VEVENT
END:VCALENDAR
