BEGIN:VCALENDAR
VERSION:2.0
PRODID:-//hacksw/handcal//NONSGML v1.0//EN
BEGIN:VEVENT
DTSTAMP:20160427T140000Z
DTSTART:20160427T140000Z
DTEND:20160427T140000Z
LOCATION:Isernhagen- Altwarmbüchen, Potsdamer Str. 3A, Altwarmbüchen, 30916, Deutschland
DESCRIPTION:\nVeranstaltungstitel: 60 Jahre MIT Deutschland- 30 Jahre MIT Isernhagen\n\nWir begehen das 60-jährige Jubiläum der MIT Deutschland und das 30-jährige Jubiläum der MIT Isernhagen auf dem Firmengelände einer modernen Druckerei mit einer kostenfreien Betriebsführung.\nInteressierte\, Bekannte und Freunde ebenso wie führende politische Persönlichkeiten haben bereits zugesagt . Außerdem werden wir dieses Datum zum zünftigen Angrillen verwenden - mit einem umgebauten Feuerwehrauto mit integriertem Grill\, Zapfanlage und Musikbox.\nInteressierte können sich gern verbindlich mit genauer Personenzahl unter obiger email Adresse anmelden.\n\nDatum und Uhrzeit\n27. April 2016\, 16 Uhr\n\nVeranstaltungsort\nIsernhagen- Altwarmbüchen\n\nErwartete Gästezahl\n50-60\n
SUMMARY:MIT Isernhagen: Jubiläumsfeier mit Betriebsbesichtigung einer modernen Druckerei
END:VEVENT
END:VCALENDAR
