BEGIN:VCALENDAR
VERSION:2.0
PRODID:-//hacksw/handcal//NONSGML v1.0//EN
BEGIN:VEVENT
DTSTAMP:20160427T160000Z
DTSTART:20160427T160000Z
DTEND:20160427T160000Z
LOCATION:Institut Dr. Lörcher, Martin-Luther-Straße 26, Ludwigsburg, 71638, Deutschland
DESCRIPTION:\nBesuch im Institut Dr. Lörcher\n\nVeranstaltungstitel: "5 Jahre Trinkwasserverordnung 2011 - Was sie Hauseigentümern und Mietern gebracht hat"\n\nDatum und Uhrzeit\n27. April 2016\, 18 Uhr\n\nVeranstaltungsort\nInstitut Dr. Lörcher\, Ludwigsburg\n\nErwartete Gästezahl\n20\n
SUMMARY:MIT Luwigsburg: Betriebsbesichtigung und Vortrag
END:VEVENT
END:VCALENDAR
