BEGIN:VCALENDAR
VERSION:2.0
PRODID:-//hacksw/handcal//NONSGML v1.0//EN
BEGIN:VEVENT
DTSTAMP:20160427T170000Z
DTSTART:20160427T170000Z
DTEND:20160427T170000Z
LOCATION:Vis à Vis Bistro - Sportsbar, Linnenkämper Str. 26, Stadtoldendorf, 37627, Deutschland
DESCRIPTION:\nVeranstaltung mit dem Kabarett "Margedding for orl"\n\nWir laden herzlich ein zu einer MIT-Unternehmenspräsentation „der besonderen Art“ ein. Unser MIT-Mitglied Thorsten Hitschfel ist Musiker und Kabarettist und wird uns im Rahmen einer Vorstellung „Erfahrungen aus (s)einem Unternehmen“ berichten. Mit selbst geschriebenen Texten präsentiert er Alltagskabarett und politisches Kabarett gepaart mit Musik\, Parodien und Komik - authentisch eben. Der Gewinner des niedersächsischen Kleinkunstpreises und weiterer Preise präsentiert uns Ausschnitte aus seinem vielseitigen Bühnenprogramm:\n\n„Best of! Margedding for orl“\nKabarett MIT Thorsten Hitschfel\n\nWir freuen uns auf einen vergnüglichen Abend. Im Anschluss wollen wir "netzwerken".\n\nDatum und Uhrzeit\n27. April 2016\, 19 Uhr\n\nVeranstaltungsort\nVis à Vis Bistro - Sportsbar\, Stadtoldendorf\n\nErwartete Gästezahl\n30-50\n
SUMMARY:MIT Eschershausen-Stadtoldendorf: MIT-Unternehmenspräsentation der "besonderen Art"
END:VEVENT
END:VCALENDAR
