BEGIN:VCALENDAR
VERSION:2.0
PRODID:-//hacksw/handcal//NONSGML v1.0//EN
BEGIN:VEVENT
DTSTAMP:20160427T164500Z
DTSTART:20160427T164500Z
DTEND:20160427T164500Z
LOCATION:Kulturschloss Wandsbek, Königsreihe 4, Hamburg, 22041, Deutschland
DESCRIPTION:\nVeranstaltungstitel: "Mehr Kunden\, mehr Umsatz... mit Klickando"\n\nImmer mehr Marktanteile gehen vom stationären Gewerbebetrieb (z.B. Einzelhandel\, freie Berufe oder Handwerk) zum Internet. Die Stärken vor Ort werden von den Kunden übersehen. Mit rund 15 Prozent ist der Online-Handel inzwischen am Gesamt-Umsatz vertreten. Aus diesem Grund ist der lokale Marktplatz im Internet zur Stärkung der Gewerbebetriebe vor Ort immer weiter auf dem Vormarsch und erreicht mehr Kunden und damit mehr Umsatz im lokalen Umfeld und in ganz Hamburg. Um hier interessante und kostengünstige Wege\, z.B. zu einem eigenen Online-Shop aufzuzeigen\, laden Dittmar Lemke und der MIT-Kreisverband Wandsbek zu einer interessanten Veranstaltung ein.\n\nDatum und Uhrzeit\n27. April 2016\, 18:45 Uhr\n\nVeranstaltungsort\nKulturschloss Wandsbek\n\nErwartete Gästezahl\n30\n
SUMMARY:MIT Wandsbek: Unternehmenspräsentation
END:VEVENT
END:VCALENDAR
