BEGIN:VCALENDAR
VERSION:2.0
PRODID:-//hacksw/handcal//NONSGML v1.0//EN
BEGIN:VEVENT
DTSTAMP:20160427T150000Z
DTSTART:20160427T150000Z
DTEND:20160427T150000Z
LOCATION:Clubhaus des Kieler Yacht Club, Strandstr. 8, 24229, Deutschland
DESCRIPTION:\nGrillabend des MIT Kreisverbandes Kiel anlässlich 60 Jahre MIT Deutschlands\n\nBegrüßung: Dr. Bernd Ahlsdorf\, Kreisvorsitzender\n\nGrußworte an die MIT: Carsten Stöben\, langjähriger Vorsitzender der Kieler MIT &amp\; Jochen Petersen\, „MIT-Urgestein“\n\nAnschließend gemeinsame Diskussion - Mittelstand „Quo Vadis“- aktuelle Wünsche an die MIT von der Förde. Wir freuen uns über eine rege Teilnahme und auf anregende Gespräche.\n\nDatum und Uhrzeit\n27. April 2016\, 17 Uhr\n\nVeranstaltungsort\nClubhaus des Kieler Yacht Club\, Strande\n\nErwartete Gästezahl\n50\n
SUMMARY:MIT Kiel: Grillabend
END:VEVENT
END:VCALENDAR
