BEGIN:VCALENDAR
VERSION:2.0
PRODID:-//hacksw/handcal//NONSGML v1.0//EN
BEGIN:VEVENT
DTSTAMP:20160427T140000Z
DTSTART:20160427T140000Z
DTEND:20160427T140000Z
LOCATION:Klinker-Musterhaus (Parkplatz Toom-Baumarkt), Schwanebecker Chaussee 39, Bernau bei Berlin, 16321, Deutschland
DESCRIPTION:\nGespräch mit der regionalen Presse zu Zielen und Arbeitsweise der MIT\n\nDatum und Uhrzeit\n27. April 2016\, 16 Uhr\n\nVeranstaltungsort\nKlinker-Musterhaus (Parkplatz Toom-Baumarkt)\, Bernau\n\nErwartete Gästezahl\n15\n
SUMMARY:MIT Barnim: Pressegespräch
END:VEVENT
END:VCALENDAR
