BEGIN:VCALENDAR
VERSION:2.0
PRODID:-//hacksw/handcal//NONSGML v1.0//EN
BEGIN:VEVENT
DTSTAMP:20160429T170000Z
DTSTART:20160429T170000Z
DTEND:20160429T170000Z
LOCATION:Spargelhof Hawighorst Straße, Brockhauser Straße 24, Wallenhorst, 49134, Deutschland
DESCRIPTION:\nTraditionelles Spargelessen der MIT Wallenhorst - der Name ist hier Programm\n\nDatum und Uhrzeit\n27. April 2016\, 18 Uhr\n\nVeranstaltungsort\nSpargelhof Hawighorst\, Wallenhorst\n\nErwartete Gästezahl\n80\n
SUMMARY:MIT Wallenhorst: Spargelessen
END:VEVENT
END:VCALENDAR
