BEGIN:VCALENDAR
VERSION:2.0
PRODID:-//hacksw/handcal//NONSGML v1.0//EN
BEGIN:VEVENT
DTSTAMP:20160427T053000Z
DTSTART:20160427T053000Z
DTEND:20160427T053000Z
LOCATION:Bäckerei Sundag im Wohnpark-Bookholt, Comeniusstr. 2, Nordhorn, 48527, Deutschland
DESCRIPTION:\nUnternehmerfrühstück\, bei dem in lockerer Runde Gedankenaustausch\, Networking und aktuelle den Mittelstand betreffende Themen besprochen werden\n\nDatum und Uhrzeit\n27. April 2016\, 7:30 Uhr\n\nVeranstaltungsort\nBäckerei Sundag\, Nordhorn\n\nErwartete Gästezahl\n15-20\n
SUMMARY:MIT Grafschaft Bentheim: 1. MIT-Unternehmerfrühstück
END:VEVENT
END:VCALENDAR
