BEGIN:VCALENDAR
VERSION:2.0
PRODID:-//hacksw/handcal//NONSGML v1.0//EN
BEGIN:VEVENT
DTSTAMP:20160428T173000Z
DTSTART:20160428T173000Z
DTEND:20160428T173000Z
LOCATION:Betriebsgelände der Bentheimer Eisenbahn, Otto-Hahn-Straße 1, Nordhorn, 48529, Deutschland
DESCRIPTION:\nUnternehmenspräsentation Bentheimer Eisenbahn und des historischen "Kaiserlichen Salonwagens"\n\nDatum und Uhrzeit\n28. April 2016\, 19:30 Uhr\n\nVeranstaltungsort\nBetriebsgelände der Bentheimer Eisenbahn\, Nordhorn\n
SUMMARY:MIT Grafschaft Bentheim: Unternehmenspräsentation
END:VEVENT
END:VCALENDAR
