BEGIN:VCALENDAR
VERSION:2.0
PRODID:-//hacksw/handcal//NONSGML v1.0//EN
BEGIN:VEVENT
DTSTAMP:20160427T070000Z
DTSTART:20160427T070000Z
DTEND:20160427T070000Z
LOCATION:Langecker Immobilien GmbH, Horstheider Weg 55, Sparrieshoop, 25365, Deutschland
DESCRIPTION:\nVeranstaltungstitel: „Ein Schlaglicht auf die Immobiliensituation in Elmshorn – was ist da los?“\n\nVeranstaltungsreihe unter dem Motto: Kontakt - Vernetzung - Gewinn - um Unternehmer in der Region zusammen zu bringen\, zu vernetzen und bekannt zu machen\n\nDatum und Uhrzeit\n27. April 2016\, 18 Uhr\n\nVeranstaltungsort\nLangecker Immobilien GmbH\, Elmshorn\n\nErwartete Gästezahl\n20\n
SUMMARY:MIT Elmshorn: Unternehmerfrühstück
END:VEVENT
END:VCALENDAR
