BEGIN:VCALENDAR
VERSION:2.0
PRODID:-//hacksw/handcal//NONSGML v1.0//EN
BEGIN:VEVENT
DTSTAMP:20160526T094500Z
DTSTART:20160526T094500Z
DTEND:20160526T124500Z
LOCATION:UBG, Egermannstraße 2, Rheinbach, 53359, Deutschland
DESCRIPTION:\nLorem ispsum dolores\n\nLorem ispsum dolores\n\nLorem ispsum dolores\n\nLorem ispsum dolores\n\nLorem ispsum dolores\n
SUMMARY:Test-Veranstaltung
END:VEVENT
END:VCALENDAR
