BEGIN:VCALENDAR
VERSION:2.0
PRODID:-//hacksw/handcal//NONSGML v1.0//EN
BEGIN:VEVENT
DTSTAMP:20171120T180000Z
DTSTART:20171120T180000Z
DTEND:20171120T180000Z
LOCATION:Allianz Forum, Pariser Platz 6 (Am Brandenburger Tor), Berlin, 10117, Deutschland
DESCRIPTION:Parlamentarischer Abend der MIT mit Verleihung des Deutschen Mittelstandspreises 2017\n\nDeutschland hat ein Erfolgsmodell und das heißt Soziale Marktwirtschaft. Nach ihren Prinzipien setzt die Politik den Rahmen so\, dass Unternehmer und Gesellschaft unter Wahrung eines fairen Wettbewerbs und sozialer Interessen frei agieren können. Mit dem Deutschen Mittelstandspreis zeichnet die MIT in jedem Jahr je einen Akteur der Politik\, Wirtschaft und Gesellschaft aus\, der sich besonders um die Prinzipien der Sozialen Marktwirtschaft verdient gemacht hat.\n\n \n​PREISTRÄGER 2017\nKategorie Politik\n     \nKategorie Gesellschaft\n     \nKategorie Unternehmen\n\n \n\n \n\n\n\nJens Spahn MdB\nParlam. Staatssekretär beim\nBundesminister der Finanzen\n\n \nProf. Dr. Daniel Zimmer\nehem. Vorsitzender der Monopolkommission\n \nLaseroptik GmbH\n \n\n \nLaudatoren\n\n    \n\n    \n\nDr. Edmund Stoiber\nMinisterpräsident a.D.\n \nWolfgang Kubicki MdL\nstellv. FDP-Vorsitzender\n \nGitta Connemann MdB\nstellv. CDU/CSU-Fraktionsvorsitzende\nund Vorsitzende der Jury\n\n \n​ZIEL DES PREISES\n\nDie Soziale Marktwirtschaft prägt Deutschland. In diesem System spielen Unternehmer\, engagierte Akteure aus der Gesellschaft und Politiker eine entscheidende Rolle. Dieses Engagement wurde auch im Jahr 2017 mit dem Deutschen Mittelstandspreis der MIT geehrt und öffentlich hervorgehoben.\n\nUnternehmer schaffen Arbeitsplätze und Wohlstand\, sie geben gesellschaftspolitische Impulse und leisten einen Beitrag zum sozialen Frieden.\nEngagierte Akteure der Gesellschaft (etwa Journalisten\, Personen aus Kultur\, TV und Literatur\, Wissenschaftler) tragen dazu bei\, gesellschaftsrelevante Themen in den Fokus der Öffentlichkeit zu stellen und für Problemlagen zu sensibilisieren.\nPolitiker müssen Antworten finden auf die Fragen der Zeit und den Worten auch Taten folgen lassen.​\nMit freundlicher Unterstützung von\n\n \nDas war der Parlamentarische Abend 2017\n\n\n
SUMMARY:Deutscher Mittelstandspreis der MIT 2017
END:VEVENT
END:VCALENDAR
